BEGIN:VCALENDAR
VERSION:2.0
PRODID:-//Verein der Gartenfreunde Freiburg Nord e.V. - ECPv6.15.20//NONSGML v1.0//EN
CALSCALE:GREGORIAN
METHOD:PUBLISH
X-ORIGINAL-URL:https://www.gartenfreunde-freiburg.de
X-WR-CALDESC:Veranstaltungen für Verein der Gartenfreunde Freiburg Nord e.V.
REFRESH-INTERVAL;VALUE=DURATION:PT1H
X-Robots-Tag:noindex
X-PUBLISHED-TTL:PT1H
BEGIN:VTIMEZONE
TZID:Europe/Berlin
BEGIN:DAYLIGHT
TZOFFSETFROM:+0100
TZOFFSETTO:+0200
TZNAME:CEST
DTSTART:20240331T010000
END:DAYLIGHT
BEGIN:STANDARD
TZOFFSETFROM:+0200
TZOFFSETTO:+0100
TZNAME:CET
DTSTART:20241027T010000
END:STANDARD
BEGIN:DAYLIGHT
TZOFFSETFROM:+0100
TZOFFSETTO:+0200
TZNAME:CEST
DTSTART:20250330T010000
END:DAYLIGHT
BEGIN:STANDARD
TZOFFSETFROM:+0200
TZOFFSETTO:+0100
TZNAME:CET
DTSTART:20251026T010000
END:STANDARD
BEGIN:DAYLIGHT
TZOFFSETFROM:+0100
TZOFFSETTO:+0200
TZNAME:CEST
DTSTART:20260329T010000
END:DAYLIGHT
BEGIN:STANDARD
TZOFFSETFROM:+0200
TZOFFSETTO:+0100
TZNAME:CET
DTSTART:20261025T010000
END:STANDARD
END:VTIMEZONE
BEGIN:VEVENT
DTSTART;TZID=Europe/Berlin:20250503T090000
DTEND;TZID=Europe/Berlin:20250503T110000
DTSTAMP:20260425T004120
CREATED:20251219T193006Z
LAST-MODIFIED:20251219T193006Z
UID:2321-1746262800-1746270000@www.gartenfreunde-freiburg.de
SUMMARY:Gemeinschaftsarbeit Höfle #3/8
DESCRIPTION:Siehe https://www.gartenfreunde-freiburg.de/2025/02/termine-der-gemeinschaftsarbeiten-2025/
URL:https://www.gartenfreunde-freiburg.de/event/gemeinschaftsarbeit-hoefle-3-8/
LOCATION:Büro Höfle\, Gundelfinger Str. 57\, Freiburg\, 79108\, Deutschland
CATEGORIES:Gemeinschaftsarbeit Höfle
END:VEVENT
BEGIN:VEVENT
DTSTART;TZID=Europe/Berlin:20250503T133000
DTEND;TZID=Europe/Berlin:20250503T150000
DTSTAMP:20260425T004120
CREATED:20251219T193007Z
LAST-MODIFIED:20251219T193007Z
UID:2322-1746279000-1746284400@www.gartenfreunde-freiburg.de
SUMMARY:1. Orga-Treffen zum Sommerfest
DESCRIPTION:Wir freuen uns darauf\, auch dieses Jahr wieder gemeinsam mit Euch unser Vereins-Sommerfest zu feiern\nAber keine Feier ohne Organisation derselben! \nDamit das Sommerfest für alle ein Erfolg und ein (entspanntes) Fest wird\, möchten wir so viele Tätigkeiten wie möglich auf viele Schultern verteilen.\nBitte kommt zahlreich zu diesem ersten Orga-Treffen nach der Gemeinschaftsarbeit.\nHier sind neben tatkräftiger Unterstützung auch kreative Ideen für Essen\, Trinken\, Spiele\, Musik und weitere Highlights gefragt.
URL:https://www.gartenfreunde-freiburg.de/event/1-orga-treffen-zum-sommerfest/
LOCATION:Büro Höfle\, Gundelfinger Str. 57\, Freiburg\, 79108\, Deutschland
CATEGORIES:Feste & Feiern,Vereinsleben
END:VEVENT
BEGIN:VEVENT
DTSTART;TZID=Europe/Berlin:20250510T090000
DTEND;TZID=Europe/Berlin:20250510T110000
DTSTAMP:20260425T004120
CREATED:20251219T193016Z
LAST-MODIFIED:20251219T193016Z
UID:2323-1746867600-1746874800@www.gartenfreunde-freiburg.de
SUMMARY:Gemeinschaftsarbeit Hettlinger #3/9
DESCRIPTION:Siehe https://www.gartenfreunde-freiburg.de/2025/02/termine-der-gemeinschaftsarbeiten-2025/
URL:https://www.gartenfreunde-freiburg.de/event/gemeinschaftsarbeit-hettlinger-3-9/
LOCATION:Büro Hettlinger\, Hermann-Mitsch-Str. 10\, Freiburg\, 79108\, Deutschland
CATEGORIES:Gemeinschaftsarbeit Hettlinger
END:VEVENT
BEGIN:VEVENT
DTSTART;TZID=Europe/Berlin:20250517T090000
DTEND;TZID=Europe/Berlin:20250517T130000
DTSTAMP:20260425T004120
CREATED:20251219T193016Z
LAST-MODIFIED:20251219T193016Z
UID:2324-1747472400-1747486800@www.gartenfreunde-freiburg.de
SUMMARY:Gemeinschaftsarbeit Hungerberg #2/6
DESCRIPTION:Siehe https://www.gartenfreunde-freiburg.de/2025/02/termine-der-gemeinschaftsarbeiten-2025/
URL:https://www.gartenfreunde-freiburg.de/event/gemeinschaftsarbeit-hungerberg-2-6/
LOCATION:Gewann Hungerberg\, Schlangenweg\, Freiburg\, 79104\, Deutschland
CATEGORIES:Gemeinschaftsarbeit Hungerberg
END:VEVENT
BEGIN:VEVENT
DTSTART;TZID=Europe/Berlin:20250526T153000
DTEND;TZID=Europe/Berlin:20250526T183000
DTSTAMP:20260425T004120
CREATED:20251219T193016Z
LAST-MODIFIED:20251219T193016Z
UID:2325-1748273400-1748284200@www.gartenfreunde-freiburg.de
SUMMARY:Begehung 2025 'Im Höfle' 54er Anlage
DESCRIPTION:Siehe https://www.gartenfreunde-freiburg.de/2025/05/begehung-2025-im-hoefle/
URL:https://www.gartenfreunde-freiburg.de/event/begehung-2025-im-hoefle-54er-anlage/
LOCATION:Büro Höfle\, Gundelfinger Str. 57\, Freiburg\, 79108\, Deutschland
CATEGORIES:Begehung Höfle
END:VEVENT
BEGIN:VEVENT
DTSTART;TZID=Europe/Berlin:20250528T160000
DTEND;TZID=Europe/Berlin:20250528T190000
DTSTAMP:20260425T004120
CREATED:20251219T193016Z
LAST-MODIFIED:20251219T193016Z
UID:2326-1748448000-1748458800@www.gartenfreunde-freiburg.de
SUMMARY:Begehung 2025 'Im Höfle' 52er Anlage
DESCRIPTION:Siehe https://www.gartenfreunde-freiburg.de/2025/05/begehung-2025-im-hoefle/
URL:https://www.gartenfreunde-freiburg.de/event/begehung-2025-im-hoefle-52er-anlage/
LOCATION:Büro Höfle\, Gundelfinger Str. 57\, Freiburg\, 79108\, Deutschland
CATEGORIES:Begehung Höfle
END:VEVENT
BEGIN:VEVENT
DTSTART;TZID=Europe/Berlin:20250530T170000
DTEND;TZID=Europe/Berlin:20250530T200000
DTSTAMP:20260425T004120
CREATED:20251219T193017Z
LAST-MODIFIED:20251219T193017Z
UID:2327-1748624400-1748635200@www.gartenfreunde-freiburg.de
SUMMARY:Begehung 2025 'Im Höfle' 53er Anlage
DESCRIPTION:Siehe https://www.gartenfreunde-freiburg.de/2025/05/begehung-2025-im-hoefle/
URL:https://www.gartenfreunde-freiburg.de/event/begehung-2025-im-hoefle-53er-anlage/
LOCATION:Büro Höfle\, Gundelfinger Str. 57\, Freiburg\, 79108\, Deutschland
CATEGORIES:Begehung Höfle
END:VEVENT
END:VCALENDAR