BEGIN:VCALENDAR
VERSION:2.0
PRODID:-//Verein der Gartenfreunde Freiburg Nord e.V. - ECPv6.15.20//NONSGML v1.0//EN
CALSCALE:GREGORIAN
METHOD:PUBLISH
X-ORIGINAL-URL:https://www.gartenfreunde-freiburg.de
X-WR-CALDESC:Veranstaltungen für Verein der Gartenfreunde Freiburg Nord e.V.
REFRESH-INTERVAL;VALUE=DURATION:PT1H
X-Robots-Tag:noindex
X-PUBLISHED-TTL:PT1H
BEGIN:VTIMEZONE
TZID:Europe/Berlin
BEGIN:DAYLIGHT
TZOFFSETFROM:+0100
TZOFFSETTO:+0200
TZNAME:CEST
DTSTART:20240331T010000
END:DAYLIGHT
BEGIN:STANDARD
TZOFFSETFROM:+0200
TZOFFSETTO:+0100
TZNAME:CET
DTSTART:20241027T010000
END:STANDARD
BEGIN:DAYLIGHT
TZOFFSETFROM:+0100
TZOFFSETTO:+0200
TZNAME:CEST
DTSTART:20250330T010000
END:DAYLIGHT
BEGIN:STANDARD
TZOFFSETFROM:+0200
TZOFFSETTO:+0100
TZNAME:CET
DTSTART:20251026T010000
END:STANDARD
BEGIN:DAYLIGHT
TZOFFSETFROM:+0100
TZOFFSETTO:+0200
TZNAME:CEST
DTSTART:20260329T010000
END:DAYLIGHT
BEGIN:STANDARD
TZOFFSETFROM:+0200
TZOFFSETTO:+0100
TZNAME:CET
DTSTART:20261025T010000
END:STANDARD
END:VTIMEZONE
BEGIN:VEVENT
DTSTART;TZID=Europe/Berlin:20250308T090000
DTEND;TZID=Europe/Berlin:20250308T110000
DTSTAMP:20260425T032828
CREATED:20251219T192905Z
LAST-MODIFIED:20251219T192905Z
UID:2311-1741424400-1741431600@www.gartenfreunde-freiburg.de
SUMMARY:Gemeinschaftsarbeit Höfle #1/8
DESCRIPTION:Siehe https://www.gartenfreunde-freiburg.de/2025/02/termine-der-gemeinschaftsarbeiten-2025/
URL:https://www.gartenfreunde-freiburg.de/event/gemeinschaftsarbeit-hoefle-1-8/
LOCATION:Büro Höfle\, Gundelfinger Str. 57\, Freiburg\, 79108\, Deutschland
CATEGORIES:Gemeinschaftsarbeit Höfle
END:VEVENT
BEGIN:VEVENT
DTSTART;TZID=Europe/Berlin:20250314T180000
DTEND;TZID=Europe/Berlin:20250314T223000
DTSTAMP:20260425T032828
CREATED:20251219T192951Z
LAST-MODIFIED:20251219T192951Z
UID:2313-1741975200-1741991400@www.gartenfreunde-freiburg.de
SUMMARY:Jahreshauptversammlung im Fritz-Hüttinger-Haus
DESCRIPTION:
URL:https://www.gartenfreunde-freiburg.de/event/jahreshauptversammlung-im-fritz-huettinger-haus/
LOCATION:Fritz-Hüttinger-Haus\, Am Hägle 1\, Freiburg\, 79110\, Deutschland
CATEGORIES:Jahreshauptversammlung
END:VEVENT
BEGIN:VEVENT
DTSTART;TZID=Europe/Berlin:20250315T090000
DTEND;TZID=Europe/Berlin:20250315T110000
DTSTAMP:20260425T032828
CREATED:20251219T192951Z
LAST-MODIFIED:20251219T192951Z
UID:2314-1742029200-1742036400@www.gartenfreunde-freiburg.de
SUMMARY:Gemeinschaftsarbeit Hettlinger #1/9
DESCRIPTION:Siehe https://www.gartenfreunde-freiburg.de/2025/02/termine-der-gemeinschaftsarbeiten-2025/
URL:https://www.gartenfreunde-freiburg.de/event/gemeinschaftsarbeit-hettlinger-1-9/
LOCATION:Büro Hettlinger\, Hermann-Mitsch-Str. 10\, Freiburg\, 79108\, Deutschland
CATEGORIES:Gemeinschaftsarbeit Hettlinger
END:VEVENT
BEGIN:VEVENT
DTSTART;TZID=Europe/Berlin:20250322T090000
DTEND;TZID=Europe/Berlin:20250322T130000
DTSTAMP:20260425T032828
CREATED:20251219T192952Z
LAST-MODIFIED:20251219T192952Z
UID:2315-1742634000-1742648400@www.gartenfreunde-freiburg.de
SUMMARY:Gemeinschaftsarbeit Hungerberg #1/6
DESCRIPTION:Siehe https://www.gartenfreunde-freiburg.de/2025/02/termine-der-gemeinschaftsarbeiten-2025/
URL:https://www.gartenfreunde-freiburg.de/event/gemeinschaftsarbeit-hungerberg-1-6/
LOCATION:Gewann Hungerberg\, Schlangenweg\, Freiburg\, 79104\, Deutschland
CATEGORIES:Gemeinschaftsarbeit Hungerberg
END:VEVENT
BEGIN:VEVENT
DTSTART;TZID=Europe/Berlin:20250329T000000
DTEND;TZID=Europe/Berlin:20250330T000000
DTSTAMP:20260425T032828
CREATED:20251219T192952Z
LAST-MODIFIED:20251219T192952Z
UID:2316-1743206400-1743292800@www.gartenfreunde-freiburg.de
SUMMARY:Wasser wird angestellt im Hettlinger
DESCRIPTION:Am Samstag\, 29. März wird im Hettlinger das Wasser angestellt.\nBitte vorher die Wasserhähne schließen!\nSiehe auch: \nWasser wird angestellt Ende März/Anfang April
URL:https://www.gartenfreunde-freiburg.de/event/wasser-wird-angestellt-im-hettlinger/
LOCATION:Büro Hettlinger\, Hermann-Mitsch-Str. 10\, Freiburg\, 79108\, Deutschland
CATEGORIES:Wasserversorgung
END:VEVENT
BEGIN:VEVENT
DTSTART;TZID=Europe/Berlin:20250329T000000
DTEND;TZID=Europe/Berlin:20250330T000000
DTSTAMP:20260425T032828
CREATED:20251219T192952Z
LAST-MODIFIED:20251219T192952Z
UID:2317-1743206400-1743292800@www.gartenfreunde-freiburg.de
SUMMARY:Wasser wird angestellt im Hungerberg
DESCRIPTION:Am Samstag\, 5. April wird im Höfle das Wasser angestellt.\nBitte vorher die Wasserhähne schließen!\nSiehe auch: https://www.gartenfreunde-freiburg.de/2025/02/wasser-wird-angestellt-ende-maerz-anfang-april/
URL:https://www.gartenfreunde-freiburg.de/event/wasser-wird-angestellt-im-hungerberg/
LOCATION:Gewann Hungerberg\, Schlangenweg\, Freiburg\, 79104\, Deutschland
CATEGORIES:Wasserversorgung
END:VEVENT
END:VCALENDAR