BEGIN:VCALENDAR
VERSION:2.0
PRODID:-//Verein der Gartenfreunde Freiburg Nord e.V. - ECPv6.15.20//NONSGML v1.0//EN
CALSCALE:GREGORIAN
METHOD:PUBLISH
X-WR-CALNAME:Verein der Gartenfreunde Freiburg Nord e.V.
X-ORIGINAL-URL:https://www.gartenfreunde-freiburg.de
X-WR-CALDESC:Veranstaltungen für Verein der Gartenfreunde Freiburg Nord e.V.
REFRESH-INTERVAL;VALUE=DURATION:PT1H
X-Robots-Tag:noindex
X-PUBLISHED-TTL:PT1H
BEGIN:VTIMEZONE
TZID:Europe/Berlin
BEGIN:DAYLIGHT
TZOFFSETFROM:+0100
TZOFFSETTO:+0200
TZNAME:CEST
DTSTART:20250330T010000
END:DAYLIGHT
BEGIN:STANDARD
TZOFFSETFROM:+0200
TZOFFSETTO:+0100
TZNAME:CET
DTSTART:20251026T010000
END:STANDARD
BEGIN:DAYLIGHT
TZOFFSETFROM:+0100
TZOFFSETTO:+0200
TZNAME:CEST
DTSTART:20260329T010000
END:DAYLIGHT
BEGIN:STANDARD
TZOFFSETFROM:+0200
TZOFFSETTO:+0100
TZNAME:CET
DTSTART:20261025T010000
END:STANDARD
BEGIN:DAYLIGHT
TZOFFSETFROM:+0100
TZOFFSETTO:+0200
TZNAME:CEST
DTSTART:20270328T010000
END:DAYLIGHT
BEGIN:STANDARD
TZOFFSETFROM:+0200
TZOFFSETTO:+0100
TZNAME:CET
DTSTART:20271031T010000
END:STANDARD
END:VTIMEZONE
BEGIN:VEVENT
DTSTART;TZID=Europe/Berlin:20260808T090000
DTEND;TZID=Europe/Berlin:20260808T120000
DTSTAMP:20260424T174245
CREATED:20260314T164300Z
LAST-MODIFIED:20260314T164300Z
UID:2422-1786179600-1786190400@www.gartenfreunde-freiburg.de
SUMMARY:Gemeinschaftsarbeit Hettlinger 2026 #6/9
DESCRIPTION:Gemeinschaftsarbeit 2026
URL:https://www.gartenfreunde-freiburg.de/event/gemeinschaftsarbeit-hettlinger-2026-6-9/
LOCATION:Büro Hettlinger\, Hermann-Mitsch-Str. 10\, Freiburg\, 79108\, Deutschland
CATEGORIES:Gemeinschaftsarbeit Hettlinger
END:VEVENT
BEGIN:VEVENT
DTSTART;TZID=Europe/Berlin:20260905T090000
DTEND;TZID=Europe/Berlin:20260905T120000
DTSTAMP:20260424T174245
CREATED:20260314T165316Z
LAST-MODIFIED:20260314T165316Z
UID:2436-1788598800-1788609600@www.gartenfreunde-freiburg.de
SUMMARY:Gemeinschaftsarbeit Höfle 2026 #6/9
DESCRIPTION:Gemeinschaftsarbeit 2026
URL:https://www.gartenfreunde-freiburg.de/event/gemeinschaftsarbeit-hoefle-2026-6-9/
LOCATION:Büro Höfle\, Gundelfinger Str. 57\, Freiburg\, 79108\, Deutschland
CATEGORIES:Gemeinschaftsarbeit Höfle
END:VEVENT
BEGIN:VEVENT
DTSTART;TZID=Europe/Berlin:20260912T090000
DTEND;TZID=Europe/Berlin:20260912T120000
DTSTAMP:20260424T174245
CREATED:20260314T164409Z
LAST-MODIFIED:20260314T164409Z
UID:2424-1789203600-1789214400@www.gartenfreunde-freiburg.de
SUMMARY:Gemeinschaftsarbeit Hettlinger 2026 #7/9
DESCRIPTION:Gemeinschaftsarbeit 2026
URL:https://www.gartenfreunde-freiburg.de/event/gemeinschaftsarbeit-hettlinger-2026-7-9/
LOCATION:Büro Hettlinger\, Hermann-Mitsch-Str. 10\, Freiburg\, 79108\, Deutschland
CATEGORIES:Gemeinschaftsarbeit Hettlinger
END:VEVENT
BEGIN:VEVENT
DTSTART;TZID=Europe/Berlin:20260926T090000
DTEND;TZID=Europe/Berlin:20260926T120000
DTSTAMP:20260424T174245
CREATED:20260314T170011Z
LAST-MODIFIED:20260315T171918Z
UID:2454-1790413200-1790424000@www.gartenfreunde-freiburg.de
SUMMARY:Gemeinschaftsarbeit Hungerberg 2026 #5/7
DESCRIPTION:Gemeinschaftsarbeit 2026
URL:https://www.gartenfreunde-freiburg.de/event/gemeinschaftsarbeit-hungerberg-2026-5-7/
LOCATION:Gewann Hungerberg\, Schlangenweg\, Freiburg\, 79104\, Deutschland
CATEGORIES:Gemeinschaftsarbeit Hungerberg
END:VEVENT
BEGIN:VEVENT
DTSTART;TZID=Europe/Berlin:20261010T090000
DTEND;TZID=Europe/Berlin:20261010T120000
DTSTAMP:20260424T174245
CREATED:20260314T164509Z
LAST-MODIFIED:20260314T164509Z
UID:2426-1791622800-1791633600@www.gartenfreunde-freiburg.de
SUMMARY:Gemeinschaftsarbeit Hettlinger 2026 #8/9
DESCRIPTION:Gemeinschaftsarbeit 2026
URL:https://www.gartenfreunde-freiburg.de/event/gemeinschaftsarbeit-hettlinger-2026-8-9/
LOCATION:Büro Hettlinger\, Hermann-Mitsch-Str. 10\, Freiburg\, 79108\, Deutschland
CATEGORIES:Gemeinschaftsarbeit Hettlinger
END:VEVENT
BEGIN:VEVENT
DTSTART;TZID=Europe/Berlin:20261010T090000
DTEND;TZID=Europe/Berlin:20261010T120000
DTSTAMP:20260424T174245
CREATED:20260314T165310Z
LAST-MODIFIED:20260314T165310Z
UID:2437-1791622800-1791633600@www.gartenfreunde-freiburg.de
SUMMARY:Gemeinschaftsarbeit Höfle 2026 #7/9
DESCRIPTION:Gemeinschaftsarbeit 2026
URL:https://www.gartenfreunde-freiburg.de/event/gemeinschaftsarbeit-hoefle-2026-7-9/
LOCATION:Büro Höfle\, Gundelfinger Str. 57\, Freiburg\, 79108\, Deutschland
CATEGORIES:Gemeinschaftsarbeit Höfle
END:VEVENT
BEGIN:VEVENT
DTSTART;TZID=Europe/Berlin:20261010T133000
DTEND;TZID=Europe/Berlin:20261010T163000
DTSTAMP:20260424T174245
CREATED:20260314T165302Z
LAST-MODIFIED:20260314T165302Z
UID:2438-1791639000-1791649800@www.gartenfreunde-freiburg.de
SUMMARY:Gemeinschaftsarbeit Höfle 2026 #8/9
DESCRIPTION:Gemeinschaftsarbeit 2026
URL:https://www.gartenfreunde-freiburg.de/event/gemeinschaftsarbeit-hoefle-2026-8-9/
LOCATION:Büro Höfle\, Gundelfinger Str. 57\, Freiburg\, 79108\, Deutschland
CATEGORIES:Gemeinschaftsarbeit Höfle
END:VEVENT
BEGIN:VEVENT
DTSTART;TZID=Europe/Berlin:20261017T090000
DTEND;TZID=Europe/Berlin:20261017T120000
DTSTAMP:20260424T174245
CREATED:20260314T170008Z
LAST-MODIFIED:20260314T170008Z
UID:2455-1792227600-1792238400@www.gartenfreunde-freiburg.de
SUMMARY:Gemeinschaftsarbeit Hungerberg 2026 #6/7
DESCRIPTION:Gemeinschaftsarbeit 2026
URL:https://www.gartenfreunde-freiburg.de/event/gemeinschaftsarbeit-hungerberg-2026-6-7/
LOCATION:Gewann Hungerberg\, Schlangenweg\, Freiburg\, 79104\, Deutschland
CATEGORIES:Gemeinschaftsarbeit Hungerberg
END:VEVENT
BEGIN:VEVENT
DTSTART;VALUE=DATE:20261031
DTEND;VALUE=DATE:20261101
DTSTAMP:20260424T174245
CREATED:20260314T160703Z
LAST-MODIFIED:20260314T160703Z
UID:2390-1793404800-1793491199@www.gartenfreunde-freiburg.de
SUMMARY:Wasser wird abgestellt
DESCRIPTION:Das Wasser wird am letzten Samstag im Oktober abgestellt. \nBitte anschließend alle Hähne öffnen\, um Frostschäden zu vermeiden.
URL:https://www.gartenfreunde-freiburg.de/event/wasser-wird-abgestellt-2/
CATEGORIES:Wasserversorgung
END:VEVENT
BEGIN:VEVENT
DTSTART;TZID=Europe/Berlin:20261107T090000
DTEND;TZID=Europe/Berlin:20261107T120000
DTSTAMP:20260424T174245
CREATED:20260314T165256Z
LAST-MODIFIED:20260314T165256Z
UID:2439-1794042000-1794052800@www.gartenfreunde-freiburg.de
SUMMARY:Gemeinschaftsarbeit Höfle 2026 #9/9
DESCRIPTION:Gemeinschaftsarbeit 2026
URL:https://www.gartenfreunde-freiburg.de/event/gemeinschaftsarbeit-hoefle-2026-9-9/
LOCATION:Büro Höfle\, Gundelfinger Str. 57\, Freiburg\, 79108\, Deutschland
CATEGORIES:Gemeinschaftsarbeit Höfle
END:VEVENT
BEGIN:VEVENT
DTSTART;TZID=Europe/Berlin:20261107T090000
DTEND;TZID=Europe/Berlin:20261107T120000
DTSTAMP:20260424T174245
CREATED:20260314T170005Z
LAST-MODIFIED:20260315T171833Z
UID:2456-1794042000-1794052800@www.gartenfreunde-freiburg.de
SUMMARY:Gemeinschaftsarbeit Hungerberg 2026 #7/7
DESCRIPTION:Gemeinschaftsarbeit 2026
URL:https://www.gartenfreunde-freiburg.de/event/gemeinschaftsarbeit-hungerberg-2026-7-7/
LOCATION:Gewann Hungerberg\, Schlangenweg\, Freiburg\, 79104\, Deutschland
CATEGORIES:Gemeinschaftsarbeit Hungerberg
END:VEVENT
BEGIN:VEVENT
DTSTART;TZID=Europe/Berlin:20261114T090000
DTEND;TZID=Europe/Berlin:20261114T120000
DTSTAMP:20260424T174245
CREATED:20260314T164550Z
LAST-MODIFIED:20260314T164550Z
UID:2428-1794646800-1794657600@www.gartenfreunde-freiburg.de
SUMMARY:Gemeinschaftsarbeit Hettlinger 2026 #9/9
DESCRIPTION:Gemeinschaftsarbeit 2026
URL:https://www.gartenfreunde-freiburg.de/event/gemeinschaftsarbeit-hettlinger-2026-9-9/
LOCATION:Büro Hettlinger\, Hermann-Mitsch-Str. 10\, Freiburg\, 79108\, Deutschland
CATEGORIES:Gemeinschaftsarbeit Hettlinger
END:VEVENT
END:VCALENDAR