BEGIN:VCALENDAR
VERSION:2.0
PRODID:-//Verein der Gartenfreunde Freiburg Nord e.V. - ECPv6.15.20//NONSGML v1.0//EN
CALSCALE:GREGORIAN
METHOD:PUBLISH
X-ORIGINAL-URL:https://www.gartenfreunde-freiburg.de
X-WR-CALDESC:Veranstaltungen für Verein der Gartenfreunde Freiburg Nord e.V.
REFRESH-INTERVAL;VALUE=DURATION:PT1H
X-Robots-Tag:noindex
X-PUBLISHED-TTL:PT1H
BEGIN:VTIMEZONE
TZID:Europe/Berlin
BEGIN:DAYLIGHT
TZOFFSETFROM:+0100
TZOFFSETTO:+0200
TZNAME:CEST
DTSTART:20250330T010000
END:DAYLIGHT
BEGIN:STANDARD
TZOFFSETFROM:+0200
TZOFFSETTO:+0100
TZNAME:CET
DTSTART:20251026T010000
END:STANDARD
BEGIN:DAYLIGHT
TZOFFSETFROM:+0100
TZOFFSETTO:+0200
TZNAME:CEST
DTSTART:20260329T010000
END:DAYLIGHT
BEGIN:STANDARD
TZOFFSETFROM:+0200
TZOFFSETTO:+0100
TZNAME:CET
DTSTART:20261025T010000
END:STANDARD
BEGIN:DAYLIGHT
TZOFFSETFROM:+0100
TZOFFSETTO:+0200
TZNAME:CEST
DTSTART:20270328T010000
END:DAYLIGHT
BEGIN:STANDARD
TZOFFSETFROM:+0200
TZOFFSETTO:+0100
TZNAME:CET
DTSTART:20271031T010000
END:STANDARD
END:VTIMEZONE
BEGIN:VEVENT
DTSTART;TZID=Europe/Berlin:20260117T100000
DTEND;TZID=Europe/Berlin:20260117T140000
DTSTAMP:20260424T155110
CREATED:20251219T193149Z
LAST-MODIFIED:20251219T193149Z
UID:2347-1768644000-1768658400@www.gartenfreunde-freiburg.de
SUMMARY:Schulung mit Fachwart Ladislaus Horvath vom Bezirksverband
DESCRIPTION:Am Samstag\, 17.01.2026\, ab 10 Uhr besprechen wir in der Gaststätte ‘Zum Höfle’ Themen nach Bedarf mit unserem Fachwart Herrn Ladislaus Horvath vom Bezirksverband. \nEgal ob Gehölzschnitt\, Vermehrung\, biologischer Pflanzenschutz oder samenechte Nachzucht – hier kann jeder noch etwas lernen. Die Schulung ist für alle offen. Eigene Fragen und Themen sind willkommen! \nEine Anmeldung bis 10.01.2026 wird erbeten unter info@gartenfreunde-freiburg.de.
URL:https://www.gartenfreunde-freiburg.de/event/schulung-mit-fachwart-ladislaus-horvath-vom-bezirksverband/
LOCATION:Gaststätte Zum Höfle\, Gundelfinger Str. 57\, Freiburg\, 79108\, Deutschland
CATEGORIES:Vereinsleben
END:VEVENT
END:VCALENDAR