BEGIN:VCALENDAR
VERSION:2.0
PRODID:-//Verein der Gartenfreunde Freiburg Nord e.V. - ECPv6.15.20//NONSGML v1.0//EN
CALSCALE:GREGORIAN
METHOD:PUBLISH
X-ORIGINAL-URL:https://www.gartenfreunde-freiburg.de
X-WR-CALDESC:Veranstaltungen für Verein der Gartenfreunde Freiburg Nord e.V.
REFRESH-INTERVAL;VALUE=DURATION:PT1H
X-Robots-Tag:noindex
X-PUBLISHED-TTL:PT1H
BEGIN:VTIMEZONE
TZID:Europe/Berlin
BEGIN:DAYLIGHT
TZOFFSETFROM:+0100
TZOFFSETTO:+0200
TZNAME:CEST
DTSTART:20240331T010000
END:DAYLIGHT
BEGIN:STANDARD
TZOFFSETFROM:+0200
TZOFFSETTO:+0100
TZNAME:CET
DTSTART:20241027T010000
END:STANDARD
BEGIN:DAYLIGHT
TZOFFSETFROM:+0100
TZOFFSETTO:+0200
TZNAME:CEST
DTSTART:20250330T010000
END:DAYLIGHT
BEGIN:STANDARD
TZOFFSETFROM:+0200
TZOFFSETTO:+0100
TZNAME:CET
DTSTART:20251026T010000
END:STANDARD
BEGIN:DAYLIGHT
TZOFFSETFROM:+0100
TZOFFSETTO:+0200
TZNAME:CEST
DTSTART:20260329T010000
END:DAYLIGHT
BEGIN:STANDARD
TZOFFSETFROM:+0200
TZOFFSETTO:+0100
TZNAME:CET
DTSTART:20261025T010000
END:STANDARD
END:VTIMEZONE
BEGIN:VEVENT
DTSTART;TZID=Europe/Berlin:20250614T090000
DTEND;TZID=Europe/Berlin:20250614T110000
DTSTAMP:20260425T004026
CREATED:20251219T193050Z
LAST-MODIFIED:20251219T193050Z
UID:2330-1749891600-1749898800@www.gartenfreunde-freiburg.de
SUMMARY:**entfällt** Gemeinschaftsarbeit Hettlinger #4/9
DESCRIPTION:Liebe Gartenfreunde\,aufgrund der Ferienzeit und der Vorbereitungen zum Sommerfest am 21.06.2025 im Höfle entfällt der Termin zur Gemeinschaftsarbeit am Samstag\, 14.06.25 im Hettlinger.Viele Grüße\nEuer Vorstandsteam\nSiehe auch https://www.gartenfreunde-freiburg.de/2025/05/gemeinschaftsarbeit-im-hettlinger-am-14-juni-entfaellt-wegen-vorbereitungen-zum-sommerfest/
URL:https://www.gartenfreunde-freiburg.de/event/entfaellt-gemeinschaftsarbeit-hettlinger-4-9/
LOCATION:Büro Hettlinger\, Hermann-Mitsch-Str. 10\, Freiburg\, 79108\, Deutschland
CATEGORIES:Gemeinschaftsarbeit Hettlinger
END:VEVENT
END:VCALENDAR