BEGIN:VCALENDAR
VERSION:2.0
PRODID:-//Verein der Gartenfreunde Freiburg Nord e.V. - ECPv6.15.20//NONSGML v1.0//EN
CALSCALE:GREGORIAN
METHOD:PUBLISH
X-ORIGINAL-URL:https://www.gartenfreunde-freiburg.de
X-WR-CALDESC:Veranstaltungen für Verein der Gartenfreunde Freiburg Nord e.V.
REFRESH-INTERVAL;VALUE=DURATION:PT1H
X-Robots-Tag:noindex
X-PUBLISHED-TTL:PT1H
BEGIN:VTIMEZONE
TZID:Europe/Berlin
BEGIN:DAYLIGHT
TZOFFSETFROM:+0100
TZOFFSETTO:+0200
TZNAME:CEST
DTSTART:20240331T010000
END:DAYLIGHT
BEGIN:STANDARD
TZOFFSETFROM:+0200
TZOFFSETTO:+0100
TZNAME:CET
DTSTART:20241027T010000
END:STANDARD
BEGIN:DAYLIGHT
TZOFFSETFROM:+0100
TZOFFSETTO:+0200
TZNAME:CEST
DTSTART:20250330T010000
END:DAYLIGHT
BEGIN:STANDARD
TZOFFSETFROM:+0200
TZOFFSETTO:+0100
TZNAME:CET
DTSTART:20251026T010000
END:STANDARD
BEGIN:DAYLIGHT
TZOFFSETFROM:+0100
TZOFFSETTO:+0200
TZNAME:CEST
DTSTART:20260329T010000
END:DAYLIGHT
BEGIN:STANDARD
TZOFFSETFROM:+0200
TZOFFSETTO:+0100
TZNAME:CET
DTSTART:20261025T010000
END:STANDARD
END:VTIMEZONE
BEGIN:VEVENT
DTSTART;TZID=Europe/Berlin:20250604T130000
DTEND;TZID=Europe/Berlin:20250604T160000
DTSTAMP:20260425T004012
CREATED:20251219T193049Z
LAST-MODIFIED:20251219T193049Z
UID:2328-1749042000-1749052800@www.gartenfreunde-freiburg.de
SUMMARY:Begehung 2025 'Im Hettlinger'
DESCRIPTION:Siehe https://www.gartenfreunde-freiburg.de/2025/05/begehung-2025-im-hettlinger/
URL:https://www.gartenfreunde-freiburg.de/event/begehung-2025-im-hettlinger/
LOCATION:Büro Hettlinger\, Hermann-Mitsch-Str. 10\, Freiburg\, 79108\, Deutschland
CATEGORIES:Begehung Hettlinger
END:VEVENT
END:VCALENDAR