BEGIN:VCALENDAR
VERSION:2.0
PRODID:-//Verein der Gartenfreunde Freiburg Nord e.V. - ECPv6.15.20//NONSGML v1.0//EN
CALSCALE:GREGORIAN
METHOD:PUBLISH
X-WR-CALNAME:Verein der Gartenfreunde Freiburg Nord e.V.
X-ORIGINAL-URL:https://www.gartenfreunde-freiburg.de
X-WR-CALDESC:Veranstaltungen für Verein der Gartenfreunde Freiburg Nord e.V.
REFRESH-INTERVAL;VALUE=DURATION:PT1H
X-Robots-Tag:noindex
X-PUBLISHED-TTL:PT1H
BEGIN:VTIMEZONE
TZID:Europe/Berlin
BEGIN:DAYLIGHT
TZOFFSETFROM:+0100
TZOFFSETTO:+0200
TZNAME:CEST
DTSTART:20240331T010000
END:DAYLIGHT
BEGIN:STANDARD
TZOFFSETFROM:+0200
TZOFFSETTO:+0100
TZNAME:CET
DTSTART:20241027T010000
END:STANDARD
BEGIN:DAYLIGHT
TZOFFSETFROM:+0100
TZOFFSETTO:+0200
TZNAME:CEST
DTSTART:20250330T010000
END:DAYLIGHT
BEGIN:STANDARD
TZOFFSETFROM:+0200
TZOFFSETTO:+0100
TZNAME:CET
DTSTART:20251026T010000
END:STANDARD
BEGIN:DAYLIGHT
TZOFFSETFROM:+0100
TZOFFSETTO:+0200
TZNAME:CEST
DTSTART:20260329T010000
END:DAYLIGHT
BEGIN:STANDARD
TZOFFSETFROM:+0200
TZOFFSETTO:+0100
TZNAME:CET
DTSTART:20261025T010000
END:STANDARD
END:VTIMEZONE
BEGIN:VEVENT
DTSTART;TZID=Europe/Berlin:20250526T153000
DTEND;TZID=Europe/Berlin:20250526T183000
DTSTAMP:20260425T003459
CREATED:20251219T193016Z
LAST-MODIFIED:20251219T193016Z
UID:2325-1748273400-1748284200@www.gartenfreunde-freiburg.de
SUMMARY:Begehung 2025 'Im Höfle' 54er Anlage
DESCRIPTION:Siehe https://www.gartenfreunde-freiburg.de/2025/05/begehung-2025-im-hoefle/
URL:https://www.gartenfreunde-freiburg.de/event/begehung-2025-im-hoefle-54er-anlage/
LOCATION:Büro Höfle\, Gundelfinger Str. 57\, Freiburg\, 79108\, Deutschland
CATEGORIES:Begehung Höfle
END:VEVENT
END:VCALENDAR